BEGIN:VCALENDAR
VERSION:2.0
PRODID:-//https://discovercampania.it///NONSGML kigkonsult.se iCalcreator 2.10.15//
METHOD:PUBLISH
BEGIN:VEVENT
UID:20260421T111549CEST-0769v3W03N@https://discovercampania.it/
DTSTAMP:20260421T091549Z
DESCRIPTION:𝐏𝐑𝐄𝐍𝐎𝐓𝐀𝐙𝐈𝐎𝐍𝐄 𝐎𝐁𝐁𝐋𝐈𝐆𝐀𝐓𝐎𝐑𝐈𝐀\n📅 Domenica 15 settembre partecipa an
 che tu all'evento gratuito '𝐂𝐀𝐌𝐌𝐈𝐍𝐀 𝐂𝐎𝐍 𝐍𝐎𝐈' accompagnati da guide GAE! \n
 ⛰️Quattro itinerari da poter scegliere tra: * Tappa di raccordo con il Cam
 mino di San Nilo con partenza da Caselle in Pittari e arrivo al Borgo di S
 anza\,* Prima tappa del Cammino del Negro con partenza da Buonabitacolo e 
 arrivo al Borgo di Sanza.* Ultima tappa del Cammino del Negro con partenza
  da Casalbuono e arrivo al Borgo di Sanza * Sentiero Italia CAI dal rifugi
 o del monte Cervati fino al Borgo di Sanza\nRaduno ore 9.00/ Arrivo ore 13
 .00\n* In Piazza Plebiscito a Sanza\, musica e degustazione di prodotti ti
 pici\nEquipaggiamento : scarpe da trekking\, bastoncini da trekking\, giac
 ca/mantella impermeabile e antivento\, cappello\, acqua\n⚠️Per info e pren
 otazioni:Tel: +39 0814972320 Email: info@discovercampania.it\nInformazioni
  sui cammini:Tappa 1 del Cammino del Negro: Buonabitacolo-SanzaInfo tecnic
 he di basePunto d’incontro: Buonabitacolo (Piazza Sandro Pertini)Lunghezza
 : 9 km circaDislivello positivo: + 100 m circaDislivello negativo: - 140 m
  circa\nSentiero Italia Monte Cervati-SanzaInfo tecniche di basePunto d’in
 contro: Sanza (piazza davanti al Municipio)Lunghezza: 10\,5 km circaDisliv
 ello positivo: + 100 m circaDislivello negativo: - 1.150 m circa\nCaselle 
 in Pittari-SanzaInfo tecnichePunto d’incontro: Caselle in Pittari (davanti
  al Municipio)Lunghezza: 13\,5 km circaDislivello positivo: + 350 m circaD
 islivello negativo: - 450 m circa\nTappa 12 del Cammino del Negro: Casalbu
 ono-SanzaInfo tecniche di basePunto d’incontro: Casalbuono (piazza adiacen
 te all’Ufficio Postale)Lunghezza: 18\,5 km circaDislivello positivo: + 200
  m circaDislivello negativo: - 260 m circa\nRISERVE: l’organizzazione si r
 iserva di apportare variazioni al programma in base alle condizionimetereo
 logiche e/o ad altre esigenze e/o di precludere la partecipazione a person
 e non ben equipaggiate e/o sprovviste di prenotazione.\n&nbsp\; https://di
 scovercampania.it/calendario-eventi/Evento/1457-cammina-con-noi
DTSTART:20240915T080000Z
DTEND:20240915T183000Z
LOCATION:84030 Sanza SA\, Italia (84030 Sanza SA\, Italia)
SUMMARY:Cammina con noi
URL:https://discovercampania.it/calendario-eventi/Evento/1457-cammina-con-n
 oi
END:VEVENT
END:VCALENDAR
